Workbook

Sheet Inscriptions
B2: CROSS DE MARNE & GONDOIRE Dimanche 10 novembre 2024 PARC CULTUREL DE RENTILLY - MICHEL CHARTIER
C5: BULLETIN COLLECTIF D'ENGAGEMENT
C8: A renvoyer avant le 7 Novembre 2023 à 19h :
C9: cross@mega-athle.fr
A10: Spécial Clubs | C10: Pierre RAULT / Marne & Gondoire Athlétisme 11 RUE EMMANUEL GREVIN - 77400 LAGNY-SUR-MARNE
C11: cross@mega-athle.fr
B13: NOM et CONTACT du correspondant :
B15: Nom du club :
A16: Note: la catégorie et numéro de course se remplissent automatiquement, sauf pour le cross court
A18: N° Dossard Réservé organisation | B18: N° licence FFA | C18: Nom | D18: Prénom | E18: Sexe (M/F) | F18: Année naissance | G18: CLUB | H18: Categorie+ | I18: N° course | J18: Tarif
H19: =_xlfn.XLOOKUP(F19,Courses!$D$2:$D$21,Courses!$B$2:$B$21,"--",1) -> 0 | I19: {=_xlfn.XLOOKUP(Inscriptions!H19,Courses!B$2:B$21,IF(Inscriptions!E19="M",Courses!E$2:E$21,Courses!F$2:F$21),"--")} -> -- | J19: =_xlfn.XLOOKUP(Inscriptions!H19,Courses!B$2:B$21,Courses!G$2:G$21,0) -> 0
H20: =_xlfn.XLOOKUP(F20,Courses!$D$2:$D$21,Courses!$B$2:$B$21,"--",1) -> 0 | I20: {=_xlfn.XLOOKUP(Inscriptions!H20,Courses!B$2:B$21,IF(Inscriptions!E20="M",Courses!E$2:E$21,Courses!F$2:F$21),"--")} -> -- | J20: =_xlfn.XLOOKUP(Inscriptions!H20,Courses!B$2:B$21,Courses!G$2:G$21,0) -> 0
H21: =_xlfn.XLOOKUP(F21,Courses!$D$2:$D$21,Courses!$B$2:$B$21,"--",1) -> 0 | I21: {=_xlfn.XLOOKUP(Inscriptions!H21,Courses!B$2:B$21,IF(Inscriptions!E21="M",Courses!E$2:E$21,Courses!F$2:F$21),"--")} -> -- | J21: =_xlfn.XLOOKUP(Inscriptions!H21,Courses!B$2:B$21,Courses!G$2:G$21,0) -> 0
H22: =_xlfn.XLOOKUP(F22,Courses!$D$2:$D$21,Courses!$B$2:$B$21,"--",1) -> 0 | I22: {=_xlfn.XLOOKUP(Inscriptions!H22,Courses!B$2:B$21,IF(Inscriptions!E22="M",Courses!E$2:E$21,Courses!F$2:F$21),"--")} -> -- | J22: =_xlfn.XLOOKUP(Inscriptions!H22,Courses!B$2:B$21,Courses!G$2:G$21,0) -> 0
H23: =_xlfn.XLOOKUP(F23,Courses!$D$2:$D$21,Courses!$B$2:$B$21,"--",1) -> 0 | I23: {=_xlfn.XLOOKUP(Inscriptions!H23,Courses!B$2:B$21,IF(Inscriptions!E23="M",Courses!E$2:E$21,Courses!F$2:F$21),"--")} -> -- | J23: =_xlfn.XLOOKUP(Inscriptions!H23,Courses!B$2:B$21,Courses!G$2:G$21,0) -> 0
H24: =_xlfn.XLOOKUP(F24,Courses!$D$2:$D$21,Courses!$B$2:$B$21,"--",1) -> 0 | I24: {=_xlfn.XLOOKUP(Inscriptions!H24,Courses!B$2:B$21,IF(Inscriptions!E24="M",Courses!E$2:E$21,Courses!F$2:F$21),"--")} -> -- | J24: =_xlfn.XLOOKUP(Inscriptions!H24,Courses!B$2:B$21,Courses!G$2:G$21,0) -> 0
H25: =_xlfn.XLOOKUP(F25,Courses!$D$2:$D$21,Courses!$B$2:$B$21,"--",1) -> 0 | I25: {=_xlfn.XLOOKUP(Inscriptions!H25,Courses!B$2:B$21,IF(Inscriptions!E25="M",Courses!E$2:E$21,Courses!F$2:F$21),"--")} -> -- | J25: =_xlfn.XLOOKUP(Inscriptions!H25,Courses!B$2:B$21,Courses!G$2:G$21,0) -> 0
H26: =_xlfn.XLOOKUP(F26,Courses!$D$2:$D$21,Courses!$B$2:$B$21,"--",1) -> 0 | I26: {=_xlfn.XLOOKUP(Inscriptions!H26,Courses!B$2:B$21,IF(Inscriptions!E26="M",Courses!E$2:E$21,Courses!F$2:F$21),"--")} -> -- | J26: =_xlfn.XLOOKUP(Inscriptions!H26,Courses!B$2:B$21,Courses!G$2:G$21,0) -> 0
H27: =_xlfn.XLOOKUP(F27,Courses!$D$2:$D$21,Courses!$B$2:$B$21,"--",1) -> 0 | I27: {=_xlfn.XLOOKUP(Inscriptions!H27,Courses!B$2:B$21,IF(Inscriptions!E27="M",Courses!E$2:E$21,Courses!F$2:F$21),"--")} -> -- | J27: =_xlfn.XLOOKUP(Inscriptions!H27,Courses!B$2:B$21,Courses!G$2:G$21,0) -> 0
H28: =_xlfn.XLOOKUP(F28,Courses!$D$2:$D$21,Courses!$B$2:$B$21,"--",1) -> 0 | I28: {=_xlfn.XLOOKUP(Inscriptions!H28,Courses!B$2:B$21,IF(Inscriptions!E28="M",Courses!E$2:E$21,Courses!F$2:F$21),"--")} -> -- | J28: =_xlfn.XLOOKUP(Inscriptions!H28,Courses!B$2:B$21,Courses!G$2:G$21,0) -> 0
H29: =_xlfn.XLOOKUP(F29,Courses!$D$2:$D$21,Courses!$B$2:$B$21,"--",1) -> 0 | I29: {=_xlfn.XLOOKUP(Inscriptions!H29,Courses!B$2:B$21,IF(Inscriptions!E29="M",Courses!E$2:E$21,Courses!F$2:F$21),"--")} -> -- | J29: =_xlfn.XLOOKUP(Inscriptions!H29,Courses!B$2:B$21,Courses!G$2:G$21,0) -> 0
H30: =_xlfn.XLOOKUP(F30,Courses!$D$2:$D$21,Courses!$B$2:$B$21,"--",1) -> 0 | I30: {=_xlfn.XLOOKUP(Inscriptions!H30,Courses!B$2:B$21,IF(Inscriptions!E30="M",Courses!E$2:E$21,Courses!F$2:F$21),"--")} -> -- | J30: =_xlfn.XLOOKUP(Inscriptions!H30,Courses!B$2:B$21,Courses!G$2:G$21,0) -> 0
... H60: =_xlfn.XLOOKUP(F60,Courses!$D$2:$D$21,Courses!$B$2:$B$21,"--",1) -> 0 | I60: {=_xlfn.XLOOKUP(Inscriptions!H60,Courses!B$2:B$21,IF(Inscriptions!E60="M",Courses!E$2:E$21,Courses!F$2:F$21),"--")} -> -- | J60: =_xlfn.XLOOKUP(Inscriptions!H60,Courses!B$2:B$21,Courses!G$2:G$21,0) -> 0
A61: Tarif : | J61: =SUM(J19:J60) -> 0 | K61: E
A66: Inscription club:
B67: 5 € jusqu’à cadet
B68: 8 € pour les autres catégories
A71: Licence à jour valide le jour de la course
A74: Date et signature du responsable :
A77: Paiement
A78: Marne et Gondoire athlétisme, association de loi 1901
A79: SIRET : 43753426600014
A80: Par virement: /!\ nouveau RIB
A81: IBAN: FR76 1870 6000 0097 5688 8559 007
A82: BIC / Swift: AGRIFRPP887
A84: Chèques à l'ordre de Marne et Gondoire Athlétisme
A86: /!\ bien vous identifier "CROSS - Nom du CLUB"

Sheet Courses
B1: Catégorie | C1: Année min | D1: Année max | E1: course M | F1: course F | G1: tarif
A2: Baby Athlé | B2: BB | C2: 2019 | D2: 2021 | E2: 6 | F2: 6 | G2: 5
A3: École d'Athlétisme | B3: EA | C3: 2016 | D3: 2018 | E3: 6 | F3: 6 | G3: 5
A4: Poussins | B4: PO | C4: 2014 | D4: 2015 | E4: 7 | F4: 7 | G4: 5
A5: Benjamins | B5: BE | C5: 2012 | D5: 2013 | E5: 5 | F5: 5 | G5: 5
A6: Minimes | B6: MI | C6: 2010 | D6: 2011 | E6: 4 | F6: 4 | G6: 5
A7: Cadets | B7: CA | C7: 2008 | D7: 2009 | E7: 3 | F7: 4 | G7: 5
A8: Juniors | B8: JU | C8: 2006 | D8: 2007 | E8: 1 | F8: 3 | G8: 8
A9: Espoirs | B9: ES | C9: 2003 | D9: 2005 | E9: 1 | F9: 2 | G9: 8
A10: Seniors | B10: SE | C10: 1991 | D10: 2002 | E10: 1 | F10: 2 | G10: 8
A11: Masters H et F | B11: MA | C11: 1900 | D11: 1990 | E11: 1 | F11: 2 | G11: 8
